BEGIN:VCALENDAR
VERSION:2.0
X-WR-CALNAME:www.indybay.org
PRODID:-//indybay/ical// v1.0//EN
BEGIN:VEVENT
UID:Indybay-18759473
SEQUENCE:18874373
CREATED:20140803T081900Z
DESCRIPTION: Peaceful protest of Israeli attack on Gaza. The murderous invasion of Gaza 
 has resulted in more than 1,600 Palestinian deaths and massive destruction 
 to homes, offices, schools, hospitals, and infrastructure. The action may 
 result in arrest. The goal is to peacefully BLOCKADE the Israeli Consulate, 
 in solidarity with others around the planet, demanding justice for the 
 Palestinian people.\n-------------------------\nLiveStream Channel for live 
 broadcast: 
 http://www.ustream.tv/channel/codeframeosf\n-------------------------\nNOTICE:\nFor 
 those of you who will be blockading and risking arrest for the peaceful 
 blockade, we ask you to arrive early, if you can, and write the National 
 Lawyers Guild hotline number on your hand: 415-285-1011.\n\nParticipants in 
 the symbolic blockade who do not wish to be arrested may have an 
 opportunity to leave the blockade prior to arrests, emphasis on the word 
 may.\n\n--------------------------\n\nList of Speakers (in order 
 received)\nRussell Bates\nMark Mason\n 
 https://www.indybay.org/newsitems/2014/08/03/18759473.php
SUMMARY:San Francisco Israeli Consulate Blockade
LOCATION:Israeli Consulate, 456 Montgomery St, San Francisco, CA 94104
URL:https://www.indybay.org/newsitems/2014/08/03/18759473.php
DTSTART:20140804T190000Z
DTEND:20140804T210000Z
END:VEVENT
END:VCALENDAR
