BEGIN:VCALENDAR
VERSION:2.0
X-WR-CALNAME:www.indybay.org
PRODID:-//indybay/ical// v1.0//EN
BEGIN:VEVENT
UID:Indybay-18759302
SEQUENCE:18874090
CREATED:20140729T213700Z
DESCRIPTION:San Francisco Civic Center:\n\n"When Adam delved and Eve span, who was then 
 the gentleman?"--John Ball, in 1381, at the time of the Peasants' 
 Revolt\n\na performance art walking tour and picnic\n\nWhat if, when Adam 
 and Eve were turned out of the Garden by God, they had been met at the 
 frontier by a ticket-taker? Come along on a one and a half hour performance 
 art walking tour of Civic Center to find out how good minds have attempted 
 to answer that question. David Giesen, San Francisco storyteller, will use 
 fact, historic anecdote, and tall tales to reveal the history and labor 
 significance of United Nations Plaza, Hiram Johnson State Office Building, 
 Earl Warren Federal Office Building, the I.O.O.F. building, Herbst 
 Auditorium, War Memorial Opera House, City Hall, and an almost unknown 
 community park and garden opposite the south side of City Hall. The last 
 half hour of this histrionic program will transpire in that snug, green 
 garden so Eden-like beside the brick and granite monuments of intentions to 
 create cooperative communities.\n\nFREE \n 
 https://www.indybay.org/newsitems/2014/07/29/18759302.php
SUMMARY:Civic Center walking tour: reclaiming the ground
LOCATION:International Youth Hostel\n685 Ellis St.\nSF\n
URL:https://www.indybay.org/newsitems/2014/07/29/18759302.php
DTSTART:20140803T190000Z
DTEND:20140803T203000Z
END:VEVENT
END:VCALENDAR
