BEGIN:VCALENDAR
VERSION:2.0
X-WR-CALNAME:www.indybay.org
PRODID:-//indybay/ical// v1.0//EN
BEGIN:VEVENT
UID:Indybay-18759293
SEQUENCE:18874078
CREATED:20140729T155300Z
DESCRIPTION:This Wednesday, July 30th at 8:30 PM EDT:\n\nFree online screening of 
 DRONES (www.dronesthefilm.com) followed by a Q&A with: Filmmaker Rick 
 Rosenthal, ACLU's Naureen Shah, Amnesty International's Zeke Johnson, and 
 the Center for Constitutional Rights' Pardiss Kebriaei\n\nFind full details 
 & RSVP here: www.demandprogress.tv/drones\n\nFollow #dronesmovie on Twitter 
 during the event. Tweet questions or email them to 
 dronesoutreach@gmail.com.\n 
 https://www.indybay.org/newsitems/2014/07/29/18759293.php
SUMMARY:Free online screening + discussion of DRONES
LOCATION:www.demandprogress.tv/drones
URL:https://www.indybay.org/newsitems/2014/07/29/18759293.php
DTSTART:20140731T033000Z
DTEND:20140731T053000Z
END:VEVENT
END:VCALENDAR
