BEGIN:VCALENDAR
VERSION:2.0
X-WR-CALNAME:www.indybay.org
PRODID:-//indybay/ical// v1.0//EN
BEGIN:VEVENT
UID:Indybay-18759219
SEQUENCE:18874118
CREATED:20140727T214500Z
DESCRIPTION:A Benefit for aid to Children in Gaza\n\nA documentary by Nitin Sawhney and 
 Roger Hill, and coproduced with young filmmakers in Gaza, FLYING PAPER is 
 an uplifting story of Palestinian youth on a quest to shatter the Guinness 
 World Record for the most kites ever flown!\n\nCo-filmmaker Roger Hill will 
 introduce the film, and afterwards he and Middle East Children's Alliance 
 staffer (and Palestinian refugee) will answer questions and give updates. 
 \n\n"Flying Paper promises to be one of those films that I will never 
 forget."\n--Samya Ayish, CNN Arabic \n\n"The film offers a rare glimpse 
 into the humanity of Gaza ..."\n--Debra Kamin,The Times of Israel\n\nWorld 
 Premiere: 2013 London Palestine Film Festival\nOfficial Selection: 2013 
 Athens International Film & Video Festival and\n2013 Philadelphia 
 Independent Film Festival\n\nLa Pena is located near Ashby BART.\n 
 https://www.indybay.org/newsitems/2014/07/27/18759219.php
SUMMARY:East Bay Film Premiere, 'Flying Paper'
LOCATION:La Pena Cultural Center\n3105 Shattuck Avenue\nBerkeley, CA 
 94705\n510-849-2568\nhttp://lapena.org
URL:https://www.indybay.org/newsitems/2014/07/27/18759219.php
DTSTART:20140808T020000Z
DTEND:20140808T040000Z
END:VEVENT
END:VCALENDAR
