BEGIN:VCALENDAR
VERSION:2.0
X-WR-CALNAME:www.indybay.org
PRODID:-//indybay/ical// v1.0//EN
BEGIN:VEVENT
UID:Indybay-18759102
SEQUENCE:18873779
CREATED:20140725T005100Z
DESCRIPTION:Join your favorite queer and feminist porn stars & producers in a panel 
 discussion about building a feminist future through porn! \n\nThis event 
 will be hosted by the Center for Sex and Culture, a celebrated San 
 Francisco event space, library and sex culture archive. \n\nFeaturing: \n+ 
 clips of feminist porn produced here in the Bay Area!\n+ snacks and 
 drinks!\n+ scent free, accessible location in SoMa, SF!\n+ merch 
 tables!\n\nPanelists include: \nJiz Lee of Pink and White 
 Productions\nPrincess Donna of Kink.com\nTobi Hill-Meyer of Handbasket 
 Productions\nCourtney Trouble of TROUBLEfilms, \nAND heartthrobs Cinnamon 
 Maxxine and Chelsea Poe\n\nTopics will include feminist praxis-in-action, 
 queer world building, the politics of representation, and more. You will 
 not want to miss this!\nFB event: 
 https://www.facebook.com/events/814055121961370/?notif_t=plan_edited\n\nSaturday, 
 August 9th\nDoors open: 8pm/ clips start at 8:30pm/ panel from 
 9pm-11pm\n\nCenter for Sex and Culture \n1349 Mission Street\nSan 
 Francisco, CA\n https://www.indybay.org/newsitems/2014/07/24/18759102.php
SUMMARY:Images of the Feminist Future: A Panel on Feminist Porn
LOCATION:The Center for Sex and Culture, 1349 Mission St, San Francisco, CA 94103
URL:https://www.indybay.org/newsitems/2014/07/24/18759102.php
DTSTART:20140810T030000Z
DTEND:20140810T070000Z
END:VEVENT
END:VCALENDAR
