BEGIN:VCALENDAR
VERSION:2.0
X-WR-CALNAME:www.indybay.org
PRODID:-//indybay/ical// v1.0//EN
BEGIN:VEVENT
UID:Indybay-18758790
SEQUENCE:18873309
CREATED:20140719T003600Z
DESCRIPTION:Composting toilets offer a sanitary and ecological solution to the flush 
 toilet. (Did you know that around 890 billion gallons of untreated sewage 
 flows into US waterways each year?) Learn about waterless composting 
 toilets, reusing urine, and considerations for installing a system into 
 your home. This presentation will cover homescale composting toilets from 
 urban to rural applications, large scale systems, operation and maintenance 
 needs, and common problems and solutions.\n\nLearn About:\n\n*Types of 
 composting toilets\n*Benefits of using urine as a fertilizer\n*Maintenance 
 requirements\n*Common problems and solutions\n*System costs\n*Codes and 
 regulations\n*Artistic toilet designs\n\nCome join this event, no RSVP 
 required.\n\n$5 to $15 sliding scale. No one turned away for lack of 
 funds.\n https://www.indybay.org/newsitems/2014/07/18/18758790.php
SUMMARY:The Low Down on Pee and Poop: Composting Toilets and Urine Reuse
LOCATION:Ecology Center: 2530 San Pablo Ave, Berkeley, CA, 94702
URL:https://www.indybay.org/newsitems/2014/07/18/18758790.php
DTSTART:20140808T020000Z
DTEND:20140808T033000Z
END:VEVENT
END:VCALENDAR
