BEGIN:VCALENDAR
VERSION:2.0
X-WR-CALNAME:www.indybay.org
PRODID:-//indybay/ical// v1.0//EN
BEGIN:VEVENT
UID:Indybay-18758432
SEQUENCE:18874528
CREATED:20140710T030700Z
DESCRIPTION:Gather at Livermore Lab to Protest Nuclear Weapons\n\n7:30 AM:  music, 
 speakers, art, and a solemn moment of silence to honor radiation 
 victims.\n\n8:30 AM:  short procession to the gate where those who choose 
 will peacefully risk arrest.\n\nCome to the Livermore nuclear weapons 
 laboratory’s northwest corner, at Vasco & Patterson Pass Roads, in 
 Livermore. There will be parking set up at the rally site and vanpools from 
 the Dublin-Pleasanton BART station (call 925-443-7148 to reserve a 
 seat).\n\nOn the 69th anniversary of the U.S. atomic bombings of Hiroshima 
 and Nagasaki, we invite all who seek peace and justice to gather at the 
 location where scientists are developing nuclear weapons. Each new weapon 
 design involves upgraded features able to rain unimaginable devastation on 
 a moment’s notice anywhere on Earth. The budget request reveals that 89% 
 of the Livermore Lab’s funding (more than a billion dollars) will go to 
 nuclear weapons activities in the coming year. Stand with the Hibakusha 
 (A-bomb survivors) to proclaim "Never Again." No Nukes. Join us. 
 Free.\n\nCo-sponsored by American Friends Service Committee, Asian 
 Americans for Peace & Justice, Campaign Nonviolence/Pace e Bene, Ecumenical 
 Peace institute, Fr. Bill O’Donnell Social Justice Committee/Newman 
 Peacemakers, Jane Addams Peace Association, Livermore Conversion Project, 
 Mt. Diablo Peace & Justice Center, Nafsi ya Jamii, Nevada Desert 
 Experience, No Nukes Action, Oakland CAN, Peace Action West, Physicians for 
 Social Responsibility-SF Bay Area Chapter, Seven Generations, Tri-Valley 
 CAREs, Western States Legal Foundation, and Women’s International League 
 for Peace & Freedom, Monterey County Branch. Additional co-sponsors 
 welcome.\n\nFacebook: https://www.facebook.com/AugustAction\n\nTri-Valley 
 CAREs Website: www.trivalleycares.org\n\n\n 
 https://www.indybay.org/newsitems/2014/07/09/18758432.php
SUMMARY:Gather at Livermore Lab Hiroshima Day
LOCATION:corner of Patterson Pass Road and Vasco Road\nLivermore CA\n94550
URL:https://www.indybay.org/newsitems/2014/07/09/18758432.php
DTSTART:20140806T143000Z
DTEND:20140806T170000Z
END:VEVENT
END:VCALENDAR
