BEGIN:VCALENDAR
VERSION:2.0
X-WR-CALNAME:www.indybay.org
PRODID:-//indybay/ical// v1.0//EN
BEGIN:VEVENT
UID:Indybay-18758203
SEQUENCE:18872440
CREATED:20140703T191200Z
DESCRIPTION:Raffa Tolicetti is the author of Think! Eat! Act!, a cookbook featuring the 
 vegan food she prepared on the Sea Shepherd ships’ anti-whaling 
 campaigns.She will be talking about her experiences aboard the ship and 
 using the book to show that every action has a consequence, and that you 
 can live both well and compassionately, even while facing the challenges of 
 being an activist living on a ship.\n\nThere will also be a short 
 presentation from members of Sacramento Prisoner Support to talk about the 
 work we do locally supporting political prisoners, including those who have 
 taken action in defense of the earth and animals.\n\nThis event is free, 
 but donations will be gladly accepted!\n\n(Vegan potluck at 6:00pm, 
 presentation at 7:00pm)\n 
 https://www.indybay.org/newsitems/2014/07/03/18758203.php
SUMMARY:Think! Eat! Act!
LOCATION:Southside Cohousing Common House, behind 440 T St., Sacramento
URL:https://www.indybay.org/newsitems/2014/07/03/18758203.php
DTSTART:20140808T010000Z
DTEND:20140808T040000Z
END:VEVENT
END:VCALENDAR
