BEGIN:VCALENDAR
VERSION:2.0
X-WR-CALNAME:www.indybay.org
PRODID:-//indybay/ical// v1.0//EN
BEGIN:VEVENT
UID:Indybay-18758008
SEQUENCE:18872125
CREATED:20140629T062800Z
DESCRIPTION:\n\nFilm evenings begin with optional potluck refreshments & social hour at 
 6:30 pm,\nfollowed by the film at 7:30 pm, followed by optional discussion 
 after the film.\n\n\nUNTOLD HISTORY OF THE UNITED STATES\nEpisode 10:  Bush 
 & Obama -- Age of Terror\nby Oliver Stone\n\n\nFor a description of this 
 film, see the website shown below.\n\n\nHumanist Hall is wheelchair 
 accessible around the corner at  411  28th  Street\n\n$5 donations are 
 expected.\n\n\n\n\n 
 https://www.indybay.org/newsitems/2014/06/28/18758008.php
SUMMARY:Untold History of the United States
LOCATION:Humanist Hall\n390  27th  Street\nuptown Oakland, between Telegraph and 
 Broadway\nhttp://www.HumanistHall.org\n
URL:https://www.indybay.org/newsitems/2014/06/28/18758008.php
DTSTART:20140724T023000Z
DTEND:20140724T043000Z
END:VEVENT
END:VCALENDAR
