BEGIN:VCALENDAR
VERSION:2.0
X-WR-CALNAME:www.indybay.org
PRODID:-//indybay/ical// v1.0//EN
BEGIN:VEVENT
UID:Indybay-18757746
SEQUENCE:18871646
CREATED:20140622T153400Z
DESCRIPTION:FilmWorks United International Working Class Film & Video Festival\nThe 
 Forgotten Space (112 mins) 2010\n By Allan Sekula and Noël Burch\n The 
 Forgotten Space investigates global maritime trade. It highlights displaced 
 farmers and villagers in Holland to underpaid truck drivers in Los Angeles 
 to Filipino maids in China. Sekula and Burch offer a sobering portrait of 
 workers’ conditions, the inhuman scale of sea trade and the secret lives 
 of port cities. http://www.theforgottenspace.net/static/home.html\n\nFly to 
 Transcend By Tu Qiao (90 min) China\nThe story of Tian Yu, one of the 
 survivors of the shocking “13 Jump” suicides at Foxconn which is the 
 primary manufacturer of Apple products. The documentary reflects on the 
 background and deeper causes of the tragedy from the perspective of 
 international relations, globalization, local government and internal 
 enterprise management. After three years of silence, Tian Yu, finally 
 shares his experiences in being involve in this dramatic event. The film 
 includes the views of both academic and media experts.\nSee also: 
 \nhttp://www.laborfest.net/2014/2014schedule.htm\n 
 https://www.indybay.org/newsitems/2014/06/22/18757746.php
SUMMARY:Laborfest: Forgotten Space & Fly to Transcend-Films
LOCATION:ILWU Local 34 Hall, 801 Second St., San Francisco. Next to baseball 
 stadium. Walk the one mile from Market on Second or on the Embarcadero to 
 801 Second Street or take public transportation: \nT or N train from 
 Embarcadero Station to Second and King Station; \n30 or 45 bus from Market 
 and Fourth Streets (Powell Station) to end of line at Townsend between 
 Fourth and Third, then walk one block to Second Street; \n47 bus which 
 starts at North Point at Fisherman’s Wharf,  travels on Van Ness, 11th 
 St, Bryant and ends at Cal Train Station at 4th and Townsend, then walk on 
 Townsend 2 blocks to Second Street; \n10 bus which runs from Van Ness on 
 Pacific to Battery, on Battery to Second St to Third and Townsend, so get 
 off at Second Street and Townsend. Also runs from 25th and Potrero, on 
 Cesar Chavez St,  Wisconsin, Connecticut, Rhode Island, Townsend to Second 
 Street.
URL:https://www.indybay.org/newsitems/2014/06/22/18757746.php
DTSTART:20140731T020000Z
DTEND:20140731T040000Z
END:VEVENT
END:VCALENDAR
