BEGIN:VCALENDAR
VERSION:2.0
X-WR-CALNAME:www.indybay.org
PRODID:-//indybay/ical// v1.0//EN
BEGIN:VEVENT
UID:Indybay-18757244
SEQUENCE:18870865
CREATED:20140612T000700Z
DESCRIPTION:Night Light blankets SOMArts in one-night-only luminous art installations, 
 including 5 audiovisual performances as well as digital and cinematic 
 projections by more than 30 artists. Gather under the cover of darkness to 
 discover time-based art that is not relegated to a stage or a flat screen 
 on a gallery’s white wall––Night Light utilizes SOMArts’ 
 post-industrial indoor space and grounds, including the garden path, 
 street-side loading bay and galleries, to create an immersive experience. 
 Highlights include electronic music set to desert landscapes, projection on 
 a boat, video that reacts to the viewer in real-time, pop songs from a 
 dystopian future and a VW Beetle covered in lights.\n 
 https://www.indybay.org/newsitems/2014/06/11/18757244.php
SUMMARY:Night Light: Multimedia Garden Party
LOCATION:SOMArts Cultural Center, 934 Brannan St San Francisco, CA 94103
URL:https://www.indybay.org/newsitems/2014/06/11/18757244.php
DTSTART:20140720T040000Z
DTEND:20140720T070000Z
END:VEVENT
END:VCALENDAR
