BEGIN:VCALENDAR
VERSION:2.0
X-WR-CALNAME:www.indybay.org
PRODID:-//indybay/ical// v1.0//EN
BEGIN:VEVENT
UID:Indybay-18757165
SEQUENCE:18870861
CREATED:20140610T115500Z
DESCRIPTION:From the Palestine to all the world.\n\nDear Friends,\n\nWe need help!\nA 
 contributor of us, the photographer Rami Allaria, while working 
 for\nIMCPAL.ps in the Jerusalem's neighborhood, was arrested.\n\nOn 15 May 
 2014 he was present to some clashes between the israeli army\nand some 
 youths in the town of Abu Dis(East Jerusalem).\n\nAllaria said to IMCPAL.ps 
 that the soldiers arrested him without asking\nhim to leave the place and 
 blindfold his eyes and tied him up and then\ntook him to a military camp in 
 the town of Abu Dis and then was\nconverted to the settlement of Ma'aleh 
 Adumim before being released.\n\nHe was prevented from entering to Abu Dis 
 or near the soldiers for 15 days.\nMoreover they took his permit to enter 
 Jerusalem and expelled out of\nIsrael borders.\n\nBut the baddest thing is 
 that he will face the court on 15/3/2015 and\nmay get in jail because of 
 taking these photos imcpal.ps/news/?p=41156\nwhere some israeli soldiers 
 arrest a child, violating the international\nand israeli laws about 
 children, taking him from inside the school of\nAbu Dis and put on their 
 jeep.\n\nRami Allaria needs aid! He hasn't a lawyer and the israeli 
 tribunals\nhave almost always a conviction for not jewish people.\n\nDo you 
 can help us? Do you have any idea to help our brave photographer?\nThank 
 you very much for every contribution you can give us.\nGod bless 
 you.\n\nindymediapalestine.artikel-140.nl\n\nlists.indymedia.org/mailman/listinfo/imc-palestine\n 
 https://www.indybay.org/newsitems/2014/06/10/18757165.php
SUMMARY:Palestinian photographer will face a court because of taking photos of Israeli soldiers
LOCATION:Jerusalem District
URL:https://www.indybay.org/newsitems/2014/06/10/18757165.php
DTSTART:20150315T070000Z
DTEND:20150316T070000Z
END:VEVENT
END:VCALENDAR
