BEGIN:VCALENDAR
VERSION:2.0
X-WR-CALNAME:www.indybay.org
PRODID:-//indybay/ical// v1.0//EN
BEGIN:VEVENT
UID:Indybay-18756287
SEQUENCE:18869383
CREATED:20140526T011900Z
DESCRIPTION:﻿    If the Government Won’t, the People Will…..\nSTOP CRUDE OIL BY 
 RAIL SHIPMENTS TO RICHMOND!\n            Stop pollution of our communities 
 and our climate!\nSATURDAY, MAY 31, 2014 AT 1 PM\nPROTEST AT KINDER 
 MORGAN’S RAIL YARD\n520 CASTRO STREET, RICHMOND, CA           \nSHUTTLES 
 WILL PROVIDE RIDES FROM RICHMOND BART -- 12:15-12:30 pm\n\nThe Bay Area Air 
 Quality Management District issued a permit to Kinder Morgan to operate its 
 crude-by-rail project to import highly explosive and toxic fracked Bakken 
 (North Dakota) crude oil into Richmond, a low-income community of color 
 already burdened by pollution caused by the fossil fuel industry. BAAQMD 
 issued the permit without public notice or opportunities for public 
 comment. \n\nThe number of trains carrying crude oil has risen dramatically 
 due to increased drilling in both the Alberta tar sands in Canada and the 
 Bakken shale oil area of North Dakota, and the number of serious accidents 
 has also increased.  \n\nWe the people must raise our voices and send a 
 loud and clear message that more pollution from dirty crude oil and tar 
 sands is not acceptable in the Bay Area or anywhere else.  KEEP THE OIL IN 
 THE GROUND!\n\nSponsors: West County Toxics Coalition, Greenaction for 
 Health and Environmental Justice, Sunflower Alliance, 350 Bay Area, Idle No 
 More/SF Bay, ANSWER/SF, Communities for a Better Environment, Environmental 
 Justice Air Quality Coalition, Asian Pacific Environmental Network, Global 
 Community Monitor, Forest Ethics\n\n\n 
 https://www.indybay.org/newsitems/2014/05/25/18756287.php
SUMMARY:Stop Crude-by-Rail at Kinder Morgan's Rail Facility in Richmond
LOCATION:520 Castro St., Richmond \nTake Richmond Pkwy exit from 580, turn R.  
 Richmond Pkwy becomes Castro.  Meet at 520 Castro St. entrance to Kinder 
 Morgan train yard, intersection w/ Hensley, across from General Chemical  
 (closest parking is up Hensley).  
URL:https://www.indybay.org/newsitems/2014/05/25/18756287.php
DTSTART:20140531T200000Z
DTEND:20140531T220000Z
END:VEVENT
END:VCALENDAR
