BEGIN:VCALENDAR
VERSION:2.0
X-WR-CALNAME:www.indybay.org
PRODID:-//indybay/ical// v1.0//EN
BEGIN:VEVENT
UID:Indybay-18756152
SEQUENCE:18869165
CREATED:20140523T081900Z
DESCRIPTION:The police gave all the homeless curfew violations and campin violations 
 after thre tickets a bench warrant was issued which meant they would lose 
 their social security food stamps ,medical . then they said leave in 5 days 
 and promise not to come back and we will give you $ 3,000  and waive the 
 tikets and bench warrents \n\n       DECLARATION OF THE BULB AUTONOMOUS 
 ZONE \n\nIn Solidarity with People whose homes are threatened, \n\nIn Honor 
 of unpermitted public Art, \n\nIn Defense of spaces free and wild 
 everywhere, \n\nTo Keep the Albany Bulb Natural and unlandscaped, \n\nTo 
 Preserve Habitat for Birds, Insects, and other migratory Animals, including 
 Humans, \n\nWe Declare the Bulb an Autonomous Zone , a space where Art and 
 Music continue to flourish, \nwhere People assemble Freely, where Dogs run 
 unleashed, and where long-term Residents \ncan continue to maintain and 
 improve their Homesteads. \n\nCome and create this place with us. So many 
 things can happen here, as they have for decades-- \nconcerts, feasts, 
 workshops, classes, theater, art projects, plant walks, treasure hunts, 
 home building, and anything else one can manifest. \n\nThis declaration is 
 a direct response to one of the last homes at the Bulb being destroyed by 
 bulldozers. We are committed to defending the remaining homes and keeping 
 the Bulb free and wild forever. \n\nWe welcome all walks of life to share 
 in the enjoyment of this unique and magical space. \n\nWe will converge 
 nightly for a potluck at the stone structure by the beach at 7pm and hope 
 you will join us! \n\nLove and Solidarity, \n\nThe Bulb Autonomous Zone 
 \nB.A.Z. \nhttp://www.sharethebulb.org/ \n 
 https://www.indybay.org/newsitems/2014/05/23/18756152.php
SUMMARY:Albany Bulb Autonomous Zone potluck, music yak every nite 7pm to 9pm
LOCATION:Albany Bulb 1 buchanan st albany ca.at stone structure at entrance 
URL:https://www.indybay.org/newsitems/2014/05/23/18756152.php
DTSTART:20140524T020000Z
DTEND:20140524T040000Z
END:VEVENT
END:VCALENDAR
