BEGIN:VCALENDAR
VERSION:2.0
X-WR-CALNAME:www.indybay.org
PRODID:-//indybay/ical// v1.0//EN
BEGIN:VEVENT
UID:Indybay-18755856
SEQUENCE:18868674
CREATED:20140516T170400Z
DESCRIPTION:Glorious gliders. Shape makers. The San Francisco Bicycle Ballet rides for 
 You!  In a cheer to punk rockers, sk8ers and messengers worldwide, the 
 San Francisco Bicycle Ballet celebrates the beauty of motion. Check out the 
 dashing kaleidoscope vision, simply a treasure to behold. Please join us 
 for an excellent evening featuring SFBMA celebrities, fantastic musicians 
 and you!\nSpecial appearances by Gregory Lennox Forbes, DelMarVa, Molten 
 Grog, Chump from L.A. and Charbo. Also featuring a Benefit raffle for the 
 SFBMA Cognition and Broken Bones Fund.\n\n 
 https://www.indybay.org/newsitems/2014/05/16/18755856.php
SUMMARY:The San Francisco Bicycle Ballet's "Mais, Oui!"
LOCATION:The San Francisco Bicycle Ballet's "Mais, Oui!"\nSat. May 31st, 
 2014\n6:45-10pm\nDogpatch Saloon\n2496 Third Street/22nd\n
URL:https://www.indybay.org/newsitems/2014/05/16/18755856.php
DTSTART:20140601T014500Z
DTEND:20140601T044500Z
END:VEVENT
END:VCALENDAR
