BEGIN:VCALENDAR
VERSION:2.0
X-WR-CALNAME:www.indybay.org
PRODID:-//indybay/ical// v1.0//EN
BEGIN:VEVENT
UID:Indybay-18755747
SEQUENCE:18868509
CREATED:20140514T070900Z
DESCRIPTION:Join Lake Merritt Neighbors Organized for Peace on our weekly anti-war walk 
 around the lake. \n 
 https://www.indybay.org/newsitems/2014/05/14/18755747.php
SUMMARY:LMNOP Weekly Peace Walk
LOCATION:Starts at the colonnade at the northeast end of Lake Merritt in Oakland. 
 Between Grand & Lakeshore Avenues, near the Grand Lake Theater.
URL:https://www.indybay.org/newsitems/2014/05/14/18755747.php
DTSTART:20140518T220000Z
DTEND:20140518T233000Z
END:VEVENT
END:VCALENDAR
