BEGIN:VCALENDAR
VERSION:2.0
X-WR-CALNAME:www.indybay.org
PRODID:-//indybay/ical// v1.0//EN
BEGIN:VEVENT
UID:Indybay-18755693
SEQUENCE:18868426
CREATED:20140512T230600Z
DESCRIPTION:SubRosa needs money! Come on down for a breakfast in the verdant courtyard, 
 with yummy food made by your friends! Sliding scale donation $5 to 
 infinity!\n\nAlso, there will be mayonnaise available to put on your food, 
 but the dishes will not have mayo in them! 
 https://www.facebook.com/events/404894776319776/\n\nAnd if you can't make 
 it you can still donate to support SubRosa by going to our EverRibbon page 
 and donating here, https://www.everribbon.com/ribbon/view/17240\n 
 https://www.indybay.org/newsitems/2014/05/12/18755693.php
SUMMARY:May-o-nnaise Benefit Brunch for SubRosa!
LOCATION:SubRosa courtyard, 703 Pacific Ave.
URL:https://www.indybay.org/newsitems/2014/05/12/18755693.php
DTSTART:20140517T170000Z
DTEND:20140517T190000Z
END:VEVENT
END:VCALENDAR
