BEGIN:VCALENDAR
VERSION:2.0
X-WR-CALNAME:www.indybay.org
PRODID:-//indybay/ical// v1.0//EN
BEGIN:VEVENT
UID:Indybay-18755673
SEQUENCE:18868395
CREATED:20140512T084900Z
DESCRIPTION:Cops are harassing residents illegally need witnesses and videos\n 
 https://www.indybay.org/newsitems/2014/05/12/18755673.php
SUMMARY:Bulb lovers unite cameras /eyewitness anti eviction mobilization noon general meeting
LOCATION:1 buchanan st albany \nALBANY bulb 
URL:https://www.indybay.org/newsitems/2014/05/12/18755673.php
DTSTART:20140512T140000Z
DTEND:20140513T020000Z
END:VEVENT
END:VCALENDAR
