BEGIN:VCALENDAR
VERSION:2.0
X-WR-CALNAME:www.indybay.org
PRODID:-//indybay/ical// v1.0//EN
BEGIN:VEVENT
UID:Indybay-18755650
SEQUENCE:18868364
CREATED:20140511T234000Z
DESCRIPTION:West Coast Premiere.\n\nDiscussion with: David Bond, director [by 
 Skype]\n\nDavid Bond is a filmmaker and a father. Things have really 
 changed since he was a kid. His children are hooked on screens and don't 
 want to go outdoors. They want iPads, TV and plastic toys. Sound familiar? 
 The marketing departments of Apple, Disney and Mattel control his children 
 better than he can. Determined to get them up and out, David appoints 
 himself as the Marketing Director for Nature. With the help of branding and 
 outdoor experts, he develops and launches a nationwide marketing campaign 
 to get British children outside. 'Project Wild Thing' is the hilarious, 
 real-life story of one man's determination to get children out and into the 
 ultimate, free wonder-product: Nature.\n\n"Enlightening and entertaining. 
 Like David Attenborough and Morgan Spurlock got drunk and had a baby..." ~ 
 Sheffield Doc Fest\n\nWatch trailer 
 >>\nhttp://bit.ly/ProjectWildThingTrailer\n\nDavid Bond | UK | 2013 | 83 
 min\nhttp://projectwildthing.com\n\nTickets: 
 $15/$14\nhttp://bit.ly/SFGFFProjectWildThing\n\nThe 4th San Francisco Green 
 Film Festival runs May 29-June 4 with 60 new films from around the world. 
 Visit us online at http://sfgreenfilmfest.org\n\n 
 https://www.indybay.org/newsitems/2014/05/11/18755650.php
SUMMARY:Screening & Discussion: 'Project Wild Thing'
LOCATION:Roxie Theater, 3117 16th St., San Francisco (near 16th/Mission BART)
URL:https://www.indybay.org/newsitems/2014/05/11/18755650.php
DTSTART:20140531T210000Z
DTEND:20140531T230000Z
END:VEVENT
END:VCALENDAR
