BEGIN:VCALENDAR
VERSION:2.0
X-WR-CALNAME:www.indybay.org
PRODID:-//indybay/ical// v1.0//EN
BEGIN:VEVENT
UID:Indybay-18755097
SEQUENCE:18867621
CREATED:20140501T020700Z
DESCRIPTION:We're going GLOBAL! Join fast food workers and allies from 36 countries and 
 150 U.S. cities for a day of action to call attention to some of the worst 
 corporate behavior and income inequality. With success in exposing 
 wide-spread wage theft, and in the wake of new reports showing the 
 industry's leadership in income disparity we're demanding change, $15 for 
 workers and a union.\n\nActions at two times and locations in East and 
 Downtown Oakland.  The first action will be in East Oakland at 6am and the 
 second will be downtown at 11 am \n 
 https://www.indybay.org/newsitems/2014/04/30/18755097.php
SUMMARY:Global Day of Action Against Fast Food Industry
LOCATION:East Oakland at 6 am and Downtown Oakland at 11 am 
URL:https://www.indybay.org/newsitems/2014/04/30/18755097.php
DTSTART:20140515T130000Z
DTEND:20140515T140000Z
END:VEVENT
END:VCALENDAR
