BEGIN:VCALENDAR
VERSION:2.0
X-WR-CALNAME:www.indybay.org
PRODID:-//indybay/ical// v1.0//EN
BEGIN:VEVENT
UID:Indybay-18755047
SEQUENCE:18867430
CREATED:20140430T090500Z
DESCRIPTION:COMMUNITY SPEAK OUT!!!\n\nHave your issues and your voices represented - 
 Directly! \nThe mic is in your hands! \n\nAll community members and 
 organizations are welcome!\n\nHear the Word of the Community!\n\nJustice 
 For Josiah will be hosting a May Day March, community contingent to start 
 at San Jose's Story and King, at 3PM. \n\nYou'll know us by the shirts and 
 signs! \nCome out and join up! \n\nSoon after, we will converge with the 
 broader May Day March, coming together for an International Worker's Day 
 and Immigration rally! (City Hall, 5:30PM). But, this is only the 
 beginning! \n\nAs a finale, Justice For Josiah invites you\nto participate 
 in the COMMUNITY SPEAK OUT @ City Hall, Immediately Following the Rally 
 Program\n\nJOIN UP! SPEAK OUT! BE HEARD!\n 
 https://www.indybay.org/newsitems/2014/04/30/18755047.php
SUMMARY:Justice For Josiah, May Day Speak Out!
LOCATION:1) March @ 3PM:\n\nStory Rd & S King Rd \nSan Jose, CA 95122 \n\n2) Rally 
 and Speak Out @ 5:30PM:\n\nSan Jose City Hall \n200 E Santa Clara St, San 
 Jose, CA 95113\n
URL:https://www.indybay.org/newsitems/2014/04/30/18755047.php
DTSTART:20140501T220000Z
DTEND:20140502T030000Z
END:VEVENT
END:VCALENDAR
