BEGIN:VCALENDAR
VERSION:2.0
X-WR-CALNAME:www.indybay.org
PRODID:-//indybay/ical// v1.0//EN
BEGIN:VEVENT
UID:Indybay-18754946
SEQUENCE:18867289
CREATED:20140428T134200Z
DESCRIPTION:Siegel & Company\nStop The Financial Chicanery At KPFA & Pacifica\nGet Your 
 Conflicted Hands \nOff Of KPFA/Pacifica NOW!\nPress Conference And Protest 
 At\nOakland Mayoral Candidate Dan Siegel & Company Offices \n\nTuesday 
 April 29, 2014 12:00 Noon\n499 14th St. Oakland, CA\nNext to Oakland City 
 Hall and 12th St BART Station\n\nMayoral candidate and former KPFA LSB 
 member and Pacifica executive director Dan Siegel and his company partners 
 are seeking to bleed Pacifica of tens of thousands of dollars. They 
 engineered a corporate take-over of the Pacifica board and illegally fired  
 Summer Reese and are now spending tens of thousands of dollars for the, 
 hiring lawyers including Hunter Pyle formerly from his own firm to fight to 
 keep control of the Pacifica Foundation and bleeding funds from the 
 community stations the programmers. This is taking place while WBAI in New 
 York has no funds to pay to keep it’s phones on. So much for saving the 
 network.\nCorporate family member Jose Luis Fuentes who took Siegel’s 
 position on the board and without being on the Pacifica board for one month 
 personally made the illegal motion  at 4:00AM EST in the morning to fire 
 Reese. The Siegel “lawyer” Fuentes had also failed to notify all the 
 board members that action would be taken to remove Summer which is required 
 under the bylaws. This is yet another example of the “lawyers” at the 
 Siegel and company law firm. They are now petitioning the court to get the 
 police to raid the Pacifica Foundation and arrest the occupiers. This is 
 the same group “Save KPFA” and their supporters at KPFA who also called 
 the police on KPFA unpaid Black community programmer Nadra Foster who was 
 beaten up by the police and then banned by KPFA management and Pacifica. 
 Dan Siegel who was on the KPFA board at the time and said he was 
 “surprised” that the police would beat up a Black women in Berkeley. 
 This corporate coup must be opposed by all who support democratic community 
 radio and want to  stop the planned bankruptcy of the Pacifica Foundation 
 organized by this crew.\nIt is time to call a halt to this wrecking 
 operation and demand and end to his corporate take-over of Pacifica and 
 KPFA.\nCall  and Fax Siegel ,Yee  and Company and demand that they get 
 their crooked hands off Pacifica and KPFA. They have already done enough 
 damage at KPFA and Pacifica.\n510-839-1200 Fax 510-444-6698\n\n\nCoalition 
 Against The Corporate Take-Over Of Pacifica and KPFA\n\n 
 https://www.indybay.org/newsitems/2014/04/28/18754946.php
SUMMARY:Picket Of Siegel And Company
LOCATION:Picket and press conference at Siegel and Company Offices\n\n499 14th St. 
 Oakland, CA\nNext to Oakland City Hall and 12th St BART Station\n
URL:https://www.indybay.org/newsitems/2014/04/28/18754946.php
DTSTART:20140429T190000Z
DTEND:20140429T190000Z
END:VEVENT
END:VCALENDAR
