BEGIN:VCALENDAR
VERSION:2.0
X-WR-CALNAME:www.indybay.org
PRODID:-//indybay/ical// v1.0//EN
BEGIN:VEVENT
UID:Indybay-18754880
SEQUENCE:18867113
CREATED:20140426T184700Z
DESCRIPTION:Join us in celebrating the 13th Season of the Reel Work Film Festival, 
 April 25-May 4, 2014.\n\nSunday, April 27\n11 AM - Nickelodeon Theatre, 
 Santa Cruz\nSALT OF THE EARTH\n(Herbert J. Biberman, 1954, 94 
 min)\nDramatization of a New Mexico zinc miners strike, which is carried on 
 successfully by the wives when the men are jailed. 60th anniversary of this 
 once-blacklisted B&W classic. \n\nSpeaker: Dana Frank, educator & author\n 
 https://www.indybay.org/newsitems/2014/04/26/18754880.php
SUMMARY:Reel Work May Day Labor Film Festival
LOCATION:Nickelodeon Theater\n210 Lincoln Street, Santa Cruz\nDowntown, 4 blocks NW 
 of Metro Center
URL:https://www.indybay.org/newsitems/2014/04/26/18754880.php
DTSTART:20140427T180000Z
DTEND:20140427T200000Z
END:VEVENT
END:VCALENDAR
