BEGIN:VCALENDAR
VERSION:2.0
X-WR-CALNAME:www.indybay.org
PRODID:-//indybay/ical// v1.0//EN
BEGIN:VEVENT
UID:Indybay-18754503
SEQUENCE:18866490
CREATED:20140420T170000Z
DESCRIPTION:~17th Assembly District ~\n           DEBATE !\n\nDavid Campos vs. David 
 Chiu\n\nTo succeed Tom Ammiano\n\nTHURS.		LIVE at 1833 PAGE nr 
 Cole		\n30thApril		DOORS OPEN     7:00 PM     \n                            
         LIMITED SEATING				\n\nSPONSORED BY:  Cathedral Hill Neighbors, D5 
 Action, D5 Democratic Club, Haight Ashbury Neighborhood Council, Hayes 
 Valley Neighborhood Association, PRO-SF\n\n 
 https://www.indybay.org/newsitems/2014/04/20/18754503.php
SUMMARY:Assembly Race Debate - Campos vs. Chiu
LOCATION:Park Library, 1833 Page near Cole
URL:https://www.indybay.org/newsitems/2014/04/20/18754503.php
DTSTART:20140501T020000Z
DTEND:20140501T033000Z
END:VEVENT
END:VCALENDAR
