BEGIN:VCALENDAR
VERSION:2.0
X-WR-CALNAME:www.indybay.org
PRODID:-//indybay/ical// v1.0//EN
BEGIN:VEVENT
UID:Indybay-18754328
SEQUENCE:18866232
CREATED:20140417T193900Z
DESCRIPTION:Celebration of Life and Struggle\nFree Mumia Abu-Jamal!\nWelcome Home Lynne 
 Stewart!\nFree all political prisoners! End racist mass incarceration! 
 Abolish the death penalty! Stop police brutality and murder!\n \nJoin Lynne 
 Stewart and Pam Africa\n Sunday, May 4, 6 pm reception; 7pm rally\nHumanist 
 Hall, 390 27th Street, between Broadway and Telegraph, Oakland\nDonation 
 $10\n \nInitial Bay Area Tour Schedule:\n-Friday, May 2: San Francisco, 
 Host: National Lawyers Guild, 6 pm 518 Valencia St., SF\n\n-Saturday, May 
 3, Palo Alto, Host: Peninsula Peace and Justice Center, 2-4 pm (Location 
 TBA.) \n\nSaturday, May 3, San Jose, Host, San Jose Peace and Justice 
 Center & NLG South Bat, evening\n\nSunday, May 4, Oakland, Host: 
 Mobilization to Free Mumia Abu-Jamal & Lynne Stewart Defense 
 Committee\n\nMonday, May 5: Marin, Host: Marin Peace and Justice Coalition, 
 7:00 pm location TBA)\n\nTuesday, May 6: Sacramento, 
 evening\nSponsors\nMobilization to Free Mumia Abu-Jamal & Lynne Stewart 
 Defense Committee\n\n\n 
 https://www.indybay.org/newsitems/2014/04/17/18754328.php
SUMMARY:Lynne Stewart Speaking Tour
LOCATION:Humanist Hall, 390 27th Street, between Broadway and Telegraph, Oakland
URL:https://www.indybay.org/newsitems/2014/04/17/18754328.php
DTSTART:20140505T010000Z
DTEND:20140505T040000Z
END:VEVENT
END:VCALENDAR
