BEGIN:VCALENDAR
VERSION:2.0
X-WR-CALNAME:www.indybay.org
PRODID:-//indybay/ical// v1.0//EN
BEGIN:VEVENT
UID:Indybay-18753831
SEQUENCE:18865468
CREATED:20140408T224900Z
DESCRIPTION:INTERNATIONAL WORKERS' DAY /\nThursday, May 1st, 2014\nDÍA INTERNACIONAL 
 DE LOS TRABAJADORES\nJueves 1 de Mayo, 2014\n\nThe people demand: jobs, 
 justice & respect for all!\n\n• $12 per hour minimum wage!\n• End 
 Police Terror!\n• Stop Mass Deportation!\n• No Car Impoundment!\n• 
 Justice for Andy Lopez!\n• Healthcare for All!	\n• Protect the Right to 
 Organize!\n\nDemanda la gente: trabajos, justicia y respeto para 
 todos!\n\n• $12 por hora salario minimo!\n• Terminación al Terror 
 Policiaco!\n• Alto a las Deportaciones Masivas!\n• No a la 
 confiscación de autos!\n• Justicia para Andy Lopez!\n• Servicio de 
 Salud para todos!\n• Proteger el Derecho a \n\nOrganized by the May 1st 
 Coalition / \nOrganizado por la Coalición del 1 de Mayo\n\nOrganized by 
 the May 1st Coalition/Organizado por la Coalición del 1 de Mayo • 
 Endorsed by/Apoyado por: Comité VIDA (Committee for Immigrant Rights, So. 
 Co.); Peace & Justice Center, So. Co.; ACLU, So. Co.; Centro Laboral de 
 Graton; United Farm Workers (UFW); Green Party, So. Co.; KBBF 89.1FM 
 Bilingual Radio; North Bay Organizing Project; Media Freedom 
 Foundation/Project Censored; North Bay Jobs With Justice/Living Wage 
 Coalition; North Bay Labor Council; UUCSR Advocates for Social Justice; 
 Unite Here Local 2850, Local 49; Unite Here International; Justice 
 Coalition for Andy Lopez; ANSWER Coalition; Petaluma Progressives; 100,000 
 Poets for Change\n 
 https://www.indybay.org/newsitems/2014/04/08/18753831.php
SUMMARY:May Day / Primero de Mayo 2014, Santa Rosa
LOCATION:4:00 pm - Gather at the Old Albertson’s lot // Reunirse en el lote de la 
 Albertson, 665 Sebastopol Rd. near/cerca de Dutton Ave., Santa Rosa\n 
 \n4:45 pm - Start March to downtown Court House Square for Rally // 
 Comience a marchar al centro de la ciudad para Mitin\n
URL:https://www.indybay.org/newsitems/2014/04/08/18753831.php
DTSTART:20140501T230000Z
DTEND:20140502T010000Z
END:VEVENT
END:VCALENDAR
