BEGIN:VCALENDAR
VERSION:2.0
X-WR-CALNAME:www.indybay.org
PRODID:-//indybay/ical// v1.0//EN
BEGIN:VEVENT
UID:Indybay-18753784
SEQUENCE:18865404
CREATED:20140408T044300Z
DESCRIPTION:Frank Lara for Congress Campaign Forum\nEvento Público • Todos 
 Bienvenidos\n\nSan Francisco’s Future: A City for the People or Only the 
 Rich?\n\nFriday, April 11, 7pm\n2969 Mission St., San Francisco\n\nWhy has 
 San Francisco become so expensive? Why are so many working class people no 
 longer able to afford to live in the city where they work? Why are our 
 so-called representatives catering to the needs of wealthy developers and 
 tech companies at our expense? It doesn’t have to be this way. San 
 Francisco could be a city for the people, not the rich. The Frank Lara for 
 Congress campaign has a program of providing for people’s needs, not for 
 the profits of the rich. Join us for a discussion of the campaign, its 
 program and organizing against gentrification. \n\n2969 Mission St., btwn 
 25th and 26th Sts. Near 24th St. BART, #14, 49 MUNI\n\n$3 - $5 donation 
 requested, no one turned away for lack of funds. Refreshments served. 
 Wheelchair accessible. \n \nFor more info: 415-821-6171 or 
 www.PSLweb.org.\n \nGo to www.pslweb.org to read daily news and anaylsis 
 from a Marxist perspective.\nGo to www.pslweb.org to subscribe to our 
 newspaper Liberation or purchase our other publications.\n\n\nForo de la 
 Campaña Frank Lara para el Congreso\n\nEl Futuro de San Francisco:¿Una 
 Ciudad para el Pueblo o Solo para los Ricos?\n\nviernes, 11 de abril, 
 7pm\n2969 Calle Mission, San Francisco\n\n¿Por qué se ha vuelto tan caro 
 San Francisco? ¿Por qué tanta gente de la clase obrera no puede pagar 
 para vivir donde trabajan? ¿Por qué nuestros llamados representantes 
 complacen las necesidades de los urbanizadores ricos y compañías de alta 
 tecnología ricas sin importar nuestras necesidades?No tiene que ser así. 
 San Francisco puede ser una ciudad para el pueblo, no los ricos. La 
 Campania Frank Lara para el Congreso tiene un programa para otorgar las 
 necesidades del pueblo, no las ganancias de los ricos. Únase con nosotros 
 para una discusión sobre la campaña, su programa y organizando contra el 
 desplazamiento.  \n\n2969 Calle Mission. Esquiná de la calle 25 y 26, 
 acerca de BART/24 St., MUNI #14, 49\n\nSugerimos una donación de $3 a $5, 
 todos bienvenidos, con o sin fondos. Habrá antojitos.\n\nPara mayor 
 información llame al PSL, en 415-821-6171 o www.PSLweb.org.\n\nVisite 
 nuestra página web: http://www.pslweb.org del día y análisis desde un 
 punto de vista Marxista.\nVaya aqui para leer selecciones actuales y 
 publicaciones anteriores y para aprender como subscribirse.\n 
 https://www.indybay.org/newsitems/2014/04/07/18753784.php
SUMMARY:Reverse the gentrification of SF/Dar Marcha Atrás al Desplazamiento en San Francisco
LOCATION:2969 Mission St., btwn 25th and 26th Sts. Near 24th St. BART, #14, 49 
 MUNI\n\n$3 - $5 donation requested, no one turned away for lack of funds. 
 Refreshments served. Wheelchair accessible. \n \nFor more info: 
 415-821-6171 or www.PSLweb.org.\n\n2969 Calle Mission. Esquiná de la calle 
 25 y 26, acerca de BART/24 St., MUNI #14, 49\n\nSugerimos una donación de 
 $3 a $5, todos bienvenidos, con o sin fondos. Habrá antojitos.\n\nPara 
 mayor información llame al PSL, en 415-821-6171 o www.PSLweb.org.\n
URL:https://www.indybay.org/newsitems/2014/04/07/18753784.php
DTSTART:20140412T020000Z
DTEND:20140412T040000Z
END:VEVENT
END:VCALENDAR
