BEGIN:VCALENDAR
VERSION:2.0
X-WR-CALNAME:www.indybay.org
PRODID:-//indybay/ical// v1.0//EN
BEGIN:VEVENT
UID:Indybay-18753302
SEQUENCE:18864636
CREATED:20140330T072800Z
DESCRIPTION:Laurie Valdez the head of Justice For Josiah, mother of orphaned Josiah and 
 Angelique and Antonio's widow will be holding a Press Conference regarding 
 his murder.\n https://www.indybay.org/newsitems/2014/03/30/18753302.php
SUMMARY:Justice For Josiah Press Conference - Demonstration
LOCATION:Martin Luther King, Jr. Library\n4th & San Fernando\nDowntown, San Jose
URL:https://www.indybay.org/newsitems/2014/03/30/18753302.php
DTSTART:20140403T183000Z
DTEND:20140403T193000Z
END:VEVENT
END:VCALENDAR
