BEGIN:VCALENDAR
VERSION:2.0
X-WR-CALNAME:www.indybay.org
PRODID:-//indybay/ical// v1.0//EN
BEGIN:VEVENT
UID:Indybay-18753281
SEQUENCE:18864607
CREATED:20140330T003300Z
DESCRIPTION:In an effort to spotlight the rising violence and theft that recently has 
 threatened many Oakland residents and  the urgent need to protect residents 
 from it, Make Oakland Better Now  and the Metropolitan-Greater Oakland 
 Democratic Club (MGO) have partnered to host the first mayoral candidate 
 debate of the season on Thursday, April 3, 6:30 p.m., at Temple Sinai, 2808 
 Summit St. in Oakland.\n\nMOBN! and MGO have confirmed mayoral candidates 
 Jason Anderson, Patrick McCullough, Bryan Parker, Jean Quan, Courtney Ruby, 
 Libby Schaaf, Nancy Sidebotham, Dan Siegel and Joe Tuman will participate 
 in the forum.\n\n"This debate will provide an opportunity for Oakland 
 residents to hear the real views of the candidates about public safety 
 solutions," said Bruce Nye, president of MOBN!  \n\nLocal journalists Bob 
 Gammon, East Bay Express; Matt Artz, Oakland Tribune; Chip Johnson, San 
 Francisco Chronicle; and Bianca Brooks, Youth Radio will ask hard-hitting, 
 probing questions.   \n\nGretchen White, president of MGO, stated that the 
 debate "puts a spotlight on the issue Oaklanders care about most-their 
 personal safety."   \n\nThe debate is free and open to the public. RSVP for 
 planning purposes at oaklandmayoraldebate.eventbrite.com.\n 
 https://www.indybay.org/newsitems/2014/03/29/18753281.php
SUMMARY:MOBN! & MGO Oakland Mayoral Candidate Debate on Public Safety
LOCATION:Temple Sinai\n2808 Summit Avenue\nOakland, CA 94609\n510-451-3263\n
URL:https://www.indybay.org/newsitems/2014/03/29/18753281.php
DTSTART:20140404T013000Z
DTEND:20140404T040000Z
END:VEVENT
END:VCALENDAR
