BEGIN:VCALENDAR
VERSION:2.0
X-WR-CALNAME:www.indybay.org
PRODID:-//indybay/ical// v1.0//EN
BEGIN:VEVENT
UID:Indybay-18753084
SEQUENCE:18864425
CREATED:20140325T213200Z
DESCRIPTION:How do we create more jobs for our community, especially our youth? Is it 
 possible for those jobs to be good for people AND for the planet? ...and 
 how can the COMMUNITY, including youth, lead the way?\n\nThe Oakland 
 Climate Action Coalition invites you, your friends, and your family to 
 explore possible solutions that address the economic and the climate crisis 
 by creating hundreds of local clean energy jobs for Oakland 
 residents.\n\nWhat: Growing Clean Energy Jobs in Oakland - A *FREE* 
 community event\nWhere: Youth Uprising, 8711 MacArthur Blvd, East 
 Oakland\nWhen: Saturday, April 5, 11 - 3 pm\n\n* FREE * LIVE MUSIC * food 
 provided * \n* Community Leaders Panel * \n* Workshops: Growing Healthy 
 Communities, Growing Food Justice, and People-Powered Solutions *\n* YOUTH 
 Workshops: Growing Youth Leadership and Growing Our Future *\n* Tabling and 
 networking with clean energy employers and job trainers *\n\nRSVP to 
 Growing Clean Energy Jobs by March 31 to guarantee your seat.\n\nPartnering 
 Organizations: Oakland Climate Action Coalition's Clean Energy & Jobs 
 Oakland Campaign, Communities for a Better Environment, Allen Temple 
 Baptist Church's Prophetic Justice Ministry, East Oakland Boxing 
 Association, Sustainable Economies Law Center, Planting Justice, PUEBLO 
 (People United for a Better Life in Oakland), Movement Generation Justice & 
 Ecology Project, Bay Localize, and RE-volv\n\nContact event organizer Colin 
 Miller at colin@baylocalize.org for more information, to get involved, or 
 to be an organizational partner.\n 
 https://www.indybay.org/newsitems/2014/03/25/18753084.php
SUMMARY:Growing Clean Energy Jobs In Oakland *A Free Community Event*
LOCATION:Youth Uprising, 8711 MacArthur Blvd, Oakland, CA 94605
URL:https://www.indybay.org/newsitems/2014/03/25/18753084.php
DTSTART:20140405T180000Z
DTEND:20140405T220000Z
END:VEVENT
END:VCALENDAR
