BEGIN:VCALENDAR
VERSION:2.0
X-WR-CALNAME:www.indybay.org
PRODID:-//indybay/ical// v1.0//EN
BEGIN:VEVENT
UID:Indybay-18752924
SEQUENCE:18864077
CREATED:20140322T023300Z
DESCRIPTION:LOOP Presents: Country Style U.S.A \n\nCountry Style, USA is a series of 
 15-minute radio and film programs produced by the US Army as a recruiting 
 aid from 1957 to 1960 featuring top American country music artists. Each 
 year 13 episodes were produced in Nashville, Tennessee and distributed to 
 local radio and TV stations. Among the hosts was Jody McCrea. Artists 
 featured on the shows included Jim Reeves and Moon Mullican.  The programs 
 were produced by Owen Bradley and his brother Harold, the chief architects 
 of the 1950s and 1960s Nashville sound in country music and 
 rockabilly.\n\nThis episode: Johnny Cash\n\nEddy Arnold Time is an American 
 musical television series syndicated to local stations from 1955 through 
 1957. The show consisted of 26 half-hour filmed episodes starring Eddy 
 Arnold in different roles within a musical narrative. Arnold portrayed, 
 among others, a lumberjack, a traveling salesman, a cowboy, a pet shop 
 owner, himself, and even Stephen Foster.\n\nThis episode: "The Cornhusking 
 Bee"\n\nPlus, a reel full of Snader Telescriptions featuring Bob Wills and 
 others.\n\n16mm/B&W/Sound/70 min.\n 
 https://www.indybay.org/newsitems/2014/03/21/18752924.php
SUMMARY:LOOP Presents: Country Style U.S.A
LOCATION:708 Gilman St. @ The Tannery\nAll Ages - Wheelchair Accesible\nFree Parking 
 - Donations Accepted\nDoor 7:00PM - Film 7:30PM
URL:https://www.indybay.org/newsitems/2014/03/21/18752924.php
DTSTART:20140413T020000Z
DTEND:20140413T050000Z
END:VEVENT
END:VCALENDAR
