BEGIN:VCALENDAR
VERSION:2.0
X-WR-CALNAME:www.indybay.org
PRODID:-//indybay/ical// v1.0//EN
BEGIN:VEVENT
UID:Indybay-18752775
SEQUENCE:18864826
CREATED:20140319T021000Z
DESCRIPTION:UPDATE: The hearing has been vacated and no new date has been assigned. 
 This event is cancelled.\n\n\n\nIn Saleh v. Bush, lead plaintiff Sundus 
 Shaker Saleh alleges the Iraq War was a premeditated war against the Iraqi 
 people, with the planning beginning in 1998. Support the efforts of Witness 
 Iraq in bringing a lawsuit against key members of the Bush Administration: 
 Bush, Cheney, Rumsfeld, Wolfowitz, Powell and Rice.\n \nImmediately 
 following the hearing, Attorney Inder Comar, http://indercomar.com/ , will 
 address the outcome of the hearing in a press conference. We would very 
 much like your attendance at the hearing to forestall the government's 
 "Motion to Dismiss." \n\nIf you are unable to attend CodePink promises to 
 do their very best to livestream the pre-hearing rally and post-hearing 
 press conference. \n\nCurrently, the lawsuit is on the calendar, 
 http://www.cand.uscourts.gov/CEO/cfd.aspx?7146 , but can be 
 rescheduled.\n\nNOTE: we have no way of knowing how long the hearing will 
 last, so please check the aforementioned website and anticipate a longer 
 timeframe for this action.\n 
 https://www.indybay.org/newsitems/2014/03/18/18752775.php
SUMMARY:Hearing Canceled: Saleh v. Bush
LOCATION:U.S. Federal Courthouse \n450 Golden Gate Avenue\nSan Francisco
URL:https://www.indybay.org/newsitems/2014/03/18/18752775.php
DTSTART:20140403T210000Z
DTEND:20140403T230000Z
END:VEVENT
END:VCALENDAR
