BEGIN:VCALENDAR
VERSION:2.0
X-WR-CALNAME:www.indybay.org
PRODID:-//indybay/ical// v1.0//EN
BEGIN:VEVENT
UID:Indybay-18752582
SEQUENCE:18863551
CREATED:20140314T231800Z
DESCRIPTION:Revolution and Bob Avakian’s\nNew Synthesis of Communism\n\n   Larry 
 Everest will discuss Bob Avakian's new synthesis of communism and the need, 
 possibility and urgency of preparing for revolution. For background, see: 
 “You Don't Know What You Think You "Know" About...The Communist 
 Revolution and the REAL Path to Emancipation: Its History and Our Future” 
 and other material on the Revolutionary Communist Party website. \n   Larry 
 Everest writes for Revolution newspaper, the voice of the Revolutionary 
 Communist Party, USA.  He’s reported from Iran, Iraq, Palestine and India 
 and is the author of Oil, Power & Empire: Iraq and the U.S. Global Agenda 
 and Behind the Poison Cloud: Union Carbide’s Bhopal Massacre.\n\nSunday, 
 March 30, 2014  • 10:30am-12:30pm\n\n6501 Telegraph Avenue, Oakland (bet. 
 Alcatraz & 66th)\n\nSeating is limited, so plan to come early. We start 
 promptly.\nFREE - but hat will be passed for donations to NPML\n\nSunday 
 Morning at the Marxist Library\n\nA weekly discussion series inspired by 
 our respect for the work of Karl Marx and our belief that his work will 
 remain as important for the class struggles of the future as they have been 
 for the past. \n\nInfo: Gene Ruyle at 510-428-1578 or 
 cuyleruyle@mac.com\nTo subscribe to our weekly announcements, email 
 cuyleruyle@mac.com \n 
 https://www.indybay.org/newsitems/2014/03/14/18752582.php
SUMMARY:Revolution and Bob Avakian’s New Synthesis of Communism
LOCATION:NPML\n6501 Telegraph Ave\nOakland, CA  94609
URL:https://www.indybay.org/newsitems/2014/03/14/18752582.php
DTSTART:20140330T173000Z
DTEND:20140330T193000Z
END:VEVENT
END:VCALENDAR
