BEGIN:VCALENDAR
VERSION:2.0
X-WR-CALNAME:www.indybay.org
PRODID:-//indybay/ical// v1.0//EN
BEGIN:VEVENT
UID:Indybay-18752312
SEQUENCE:18863137
CREATED:20140309T054900Z
DESCRIPTION:Our precious, life-giving water has become just another commodity, in 
 California and all over the globe.  Our two-year drought highlights the 
 fight over water locally, and links us with communities world-wide.  Learn 
 about the global and local issues affecting our water and our life from 
 Barbara Barrigan-Parrilla, the Executive Director for Restore the Delta, 
 and Adam Scow, the California Director of Food & Water Watch.  There will 
 be ample time for questions and discussion.\n 
 https://www.indybay.org/newsitems/2014/03/08/18752312.php
SUMMARY:OccupyForum presents "Got Water?" The privitization and diverson of H2O
LOCATION:Global Exchange\n2017 Mission Street near 16th Street BART
URL:https://www.indybay.org/newsitems/2014/03/08/18752312.php
DTSTART:20140311T010000Z
DTEND:20140311T040000Z
END:VEVENT
END:VCALENDAR
