BEGIN:VCALENDAR
VERSION:2.0
X-WR-CALNAME:www.indybay.org
PRODID:-//indybay/ical// v1.0//EN
BEGIN:VEVENT
UID:Indybay-18751914
SEQUENCE:18862628
CREATED:20140304T204500Z
DESCRIPTION:Join in as “The Breakfast Group” relocates their weekly coffee-fueled 
 conversations to the Richmond Art Center, part of the exhibition “The 
 Breakfast Group: Jive and Java.” An informal gallery tour will be led by 
 featured artist Katie Hawkinson. For five decades, this unique and ever 
 changing group of artists have met to talk art, world events, movies, life 
 and sports! Coffee will be provided. Free.\n 
 https://www.indybay.org/newsitems/2014/03/04/18751914.php
SUMMARY:Jive and Java with the Breakfast Group Artists: Katie Hawkinson
LOCATION:Richmond Art Center, 2540 Barrett Ave., Richmond, CA 94804
URL:https://www.indybay.org/newsitems/2014/03/04/18751914.php
DTSTART:20140412T180000Z
DTEND:20140412T200000Z
END:VEVENT
END:VCALENDAR
