BEGIN:VCALENDAR
VERSION:2.0
X-WR-CALNAME:www.indybay.org
PRODID:-//indybay/ical// v1.0//EN
BEGIN:VEVENT
UID:Indybay-18751027
SEQUENCE:18861848
CREATED:20140217T025200Z
DESCRIPTION:Our tribute to David Hayden is coming up this Saturday, February 22, at 
 1:00 p.m. at the Center for Spiritual Living at 1818 Felt St. in Santa 
 Cruz, CA. Please share this with friends and family who are not on 
 Craigslist.\n\nThe tribute will be somewhat of an open format and we 
 encourage David's friends and family to bring stories and memories to share 
 with everyone. Hope to see you all there.\n 
 https://www.indybay.org/newsitems/2014/02/16/18751027.php
SUMMARY:Remembering David Hayden
LOCATION:Center for Spiritual Living \n1818 Felt St. \nSanta Cruz, CA.
URL:https://www.indybay.org/newsitems/2014/02/16/18751027.php
DTSTART:20140222T210000Z
DTEND:20140222T230000Z
END:VEVENT
END:VCALENDAR
