BEGIN:VCALENDAR
VERSION:2.0
X-WR-CALNAME:www.indybay.org
PRODID:-//indybay/ical// v1.0//EN
BEGIN:VEVENT
UID:Indybay-18750524
SEQUENCE:18860438
CREATED:20140209T085700Z
DESCRIPTION:Thursday, February 13, 2014, 7-9 PM\nValentine's Rise Up Singing & Art\nat 
 The Resource Center for Nonviolence\n612 Ocean Street, Santa Cruz\n\nPlease 
 bring a "Rise Up Singing" songbook and instruments (optional). \nWe will 
 also sing love songs! \n*Bring your Valentine or meet a new one there! 
 \n\nFree Event / Donations to RCNV Appreciated. Kids Welcome.\n\nFor more 
 info. contact:\nKaren Kaplan: (831) 335-3342 (Noon-11PM) 
 kaplanks@hotmail.com\nLiz Chamberlain: (831) 251-4330 
 flowergarden@baymoon.com\nLarry Joba: (831) 425-0567 
 LarryJoba@aol.com\n\nArtists: \nAJ & Jack Ferrell, Bonnie Minardi, David 
 Salazar, Dominique Blanchard, Diane Carter, Jarl Payne, Karen Kaplan, Mary 
 Warshaw, Philip Wankier & Russell Brutsche\n\nPlease invite friends!\n 
 https://www.indybay.org/newsitems/2014/02/09/18750524.php
SUMMARY:Valentine's Rise Up Singing & Art
LOCATION:The Resource Center For Nonviolence\n612 Ocean Street, Santa Cruz 
URL:https://www.indybay.org/newsitems/2014/02/09/18750524.php
DTSTART:20140214T030000Z
DTEND:20140214T050000Z
END:VEVENT
END:VCALENDAR
