BEGIN:VCALENDAR
VERSION:2.0
X-WR-CALNAME:www.indybay.org
PRODID:-//indybay/ical// v1.0//EN
BEGIN:VEVENT
UID:Indybay-18750518
SEQUENCE:18860499
CREATED:20140209T031800Z
DESCRIPTION:On Sat. Feb. 15, ATA Gallery’s OTHER CINEMA inaugurates its Spring 2014 
 schedule with Valentine Voluptuaries, which is headlined by two Kuchar 
 Bros. films from the mid-60s!! Starring none other than Jack Smith(!), 
 Lovers of Eternity was shot in 1964, when the Bronx twins were 22 years 
 old. That sole surviving 8mm original, thanks to an Anthology Film Archives 
 grant, was blown up to 16mm just a few years ago, and this screening, 
 apparently, will be the first time this ultra-rare camp treasure has EVER 
 shown on the West Coast! Anchoring our second half, The Secret of Wendel 
 Samson, shot by Mike on 16mm two years later, stars Pop artist Red Grooms 
 as he works through issues of sexual desire in surreal mise-en-scenes. 
 Tonight Mike appears in person to premiere his 10 min. Soulmates, while an 
 orgy of erotic romps--Peggy Ahwesh, Sally Rand, Lili St. Cyr--flesh out the 
 rest of the polymorphous perversity.\nThe gallery opens early for free 
 wine, condoms, and Craig Baldwin’s 16mm triptych of psychedelic smut, to 
 the recorded music of Pornorchestra!\n\nDoors at 8. Showtime is 8:30. 
 Admission is $6.\n 
 https://www.indybay.org/newsitems/2014/02/08/18750518.php
SUMMARY:Other Cinema's Valentine Voluptuaries: Jack Smith in Kuchars' Lovers of Eternity
LOCATION:A.T.A. GALLERY\n992 VALENCIA STREET @ 21ST\nSAN 
 FRANCISCO\n415.648.0654\nwww.othercinema.com
URL:https://www.indybay.org/newsitems/2014/02/08/18750518.php
DTSTART:20140216T040000Z
DTEND:20140216T063000Z
END:VEVENT
END:VCALENDAR
