BEGIN:VCALENDAR
VERSION:2.0
X-WR-CALNAME:www.indybay.org
PRODID:-//indybay/ical// v1.0//EN
BEGIN:VEVENT
UID:Indybay-18750298
SEQUENCE:18860052
CREATED:20140204T234100Z
DESCRIPTION:Have Stress? Come to our workshop!\nLearn what we can do to reduce stress 
 and relax!\n\nVinh Phan will be leading this workshop. He is currently a 
 lecturer at Mission College and a Behavioral Health Instructor at Kaiser 
 Permanente in which he teaches anxiety management, depression management, 
 pathways to stress reduction, and mind body approach to stress 
 management.\n\nSuggested Donation $5-10, no one turned away\n\nFor more 
 information contact coordinator@sanjosepeace.org or call 
 408-297-2299\n\nNearby VTA Routes: 22, 23, 63, 64, 72, 73, & 522\n 
 https://www.indybay.org/newsitems/2014/02/04/18750298.php
SUMMARY:Stress Management Workshop
LOCATION:San Jose Peace & Justice Center\n48 S. 7th Street, San Jose 95112
URL:https://www.indybay.org/newsitems/2014/02/04/18750298.php
DTSTART:20140214T030000Z
DTEND:20140214T043000Z
END:VEVENT
END:VCALENDAR
