BEGIN:VCALENDAR
VERSION:2.0
X-WR-CALNAME:www.indybay.org
PRODID:-//indybay/ical// v1.0//EN
BEGIN:VEVENT
UID:Indybay-18750254
SEQUENCE:18859984
CREATED:20140204T052700Z
DESCRIPTION:This is the first installment of the Spartacus Youth Club Spring Class 
 Series at SFSU:\n\nThe readings for this class are:\n\nV. I. Lenin, 
 Socialism and War, Lenin Collected Works Vol. 21,\npp. 295-338  
 http://marxists.org/archive/lenin/works/1915/s+w/index.htm\n\nLenin and the 
 Vanguard Party, a Spartacist Pamphlet , 2nd Ed.,\n  August 1997: “Toward 
 the Communist International”, pp. 47-55\n\n\n\n  The Spartacus Youth Club 
 intervenes into social struggles armed with the revolutionary 
 internationalist program of Marx, Engels, Lenin and Trotsky. We work to 
 mobilize youth in struggle as partisans of the working class, championing 
 the liberation of black people, women and all the oppressed. We fight to 
 win youth to the perspective of building the Leninist vanguard party that 
 will lead the working class in socialist revolution, laying the basis for a 
 world free of capitalist exploitation and imperialist slaughter. The SYC is 
 the youth auxiliary of the Spartacist League, a Marxist organization, which 
 publishes the bi-weekly newspaper Workers Vanguard.\n\n 
 https://www.indybay.org/newsitems/2014/02/03/18750254.php
SUMMARY:Prelude to the 1917 Russian Revolution: WWI and the Split in the Second International
LOCATION:San Francisco State University\nCesar Chavez Student Center\nRosa Parks D\n
URL:https://www.indybay.org/newsitems/2014/02/03/18750254.php
DTSTART:20140207T030000Z
DTEND:20140207T050000Z
END:VEVENT
END:VCALENDAR
