BEGIN:VCALENDAR
VERSION:2.0
X-WR-CALNAME:www.indybay.org
PRODID:-//indybay/ical// v1.0//EN
BEGIN:VEVENT
UID:Indybay-18749987
SEQUENCE:18859623
CREATED:20140130T022300Z
DESCRIPTION:Opening reception: Creativist Pinay Crones\nMarch 8th\n3pm - 6pm\n\nAn arts 
 and crafts exhibit exclusively featuring Filipino-\nAmerican women artists 
 over the age of 55.\n\nWe are creating art, we are creating a road for 
 young people to walk down, and we are creating a place for Pinays over 55+ 
 to display our art and crafts.\n\n\n\n 
 https://www.indybay.org/newsitems/2014/01/29/18749987.php
SUMMARY:Creativist Pinay Crones
LOCATION:International Hotel Manilatown Community Center\n888 Kearny Street\nSan 
 Francisco, CA  94108\n415-399-9580
URL:https://www.indybay.org/newsitems/2014/01/29/18749987.php
DTSTART:20140308T230000Z
DTEND:20140309T020000Z
END:VEVENT
END:VCALENDAR
