BEGIN:VCALENDAR
VERSION:2.0
X-WR-CALNAME:www.indybay.org
PRODID:-//indybay/ical// v1.0//EN
BEGIN:VEVENT
UID:Indybay-18749760
SEQUENCE:18859307
CREATED:20140126T003100Z
DESCRIPTION:Filmmaker in person.  Sylvi Alli will perform her songs accompanying 
 herself on accordion before the movie. Running time of film: 2 hrs.  Film 
 completed in 2103.\n\nADMISSION\n$5-10. at the door.  \n\nCONTACT\nInfo: 
 (408) 271-5155, Brian Eder\n\nThe concepts raised in “The Book of Jane” 
 are profound and often complex, and provides evidence of the artistic and 
 intellectual power that can be generated through underground filmmaking." - 
 Phil Hall (5 
 stars)\nhttp://www.filmthreat.com/reviews/71908/\n \nSYNOPSIS\nAlice, a 
 Professor of Comparative Religion, is writing a book exalting the ancient 
 values of pre-Hellenic goddess mythologies. One day she meets Jane, an 
 enigmatic older woman who roams the university campus, sleeps under a 
 bridge, and who rattles her with disturbing insights. Alice is also a muse 
 to her partner Colette, an inspired artist who paints goddess portraits. 
 When Colette hears about Jane, she encourages a reluctant Alice to invite 
 her over for dinner. "The Book of Jane" is an urban fable of Feminine 
 initiation where three women attempt to advance the values of an ancient 
 culture but at a deep cost no one expected.  \n\nWatch a 4-minute 
 excerpt\nhttps://vimeo.com/75236294\n\nAntero Alli, filmography (pix, 
 credits, clips)\nhttp://www.verticalpool.com/filmography.html\n\n\n 
 https://www.indybay.org/newsitems/2014/01/25/18749760.php
SUMMARY:San Jose premiere of "The Book of Jane", a film by Antero Alli
LOCATION:Anno Domini Gallery, 366 S. First St., San Jose 95113
URL:https://www.indybay.org/newsitems/2014/01/25/18749760.php
DTSTART:20140208T033000Z
DTEND:20140208T060000Z
END:VEVENT
END:VCALENDAR
