BEGIN:VCALENDAR
VERSION:2.0
X-WR-CALNAME:www.indybay.org
PRODID:-//indybay/ical// v1.0//EN
BEGIN:VEVENT
UID:Indybay-18749651
SEQUENCE:18859159
CREATED:20140123T184000Z
DESCRIPTION:\nMichael LindMichael Lind explains how the U.S. has reinvented itself 
 economically and politically a number of times as a result of new 
 technologies. Michael sees a pattern of each new technology overwhelming 
 the political and regulatory system with the U.S. government laging a 
 generation or two behind the technologically-induced economic changes. 
 Michael contends that change requires a crisis or a war or both to 
 overthrow the old regime and usher in the new.  \n\n\n\n\nMichael is 
 interviewed by Terrence McNally a journalist and radio host.  Michael Lind 
 is Policy Director of the Economic Growth Program at the New America 
 Foundation in Washington, D.C., Editor of New American Contract and its 
 blog Value Added, and a columnist for Salon magazine.\nSource: Q&A: Michael 
 Lind, Co-Founder of New America Foundation\n\nDanielle DroitschBritish 
 Columbia Rejects Tar Sands Pipeline\n\nCanada is still looking for 
 alternative export routes for Tar Sands oil. Danielle Droitsch of the 
 Natural Resource Defense Council's Canada Project tells Steve Curwood that 
 British Columbia has rejected a proposal to send a pipeline through their 
 pristine British Columbia.\nSource: British Columbia Rejects Tar Sands 
 Pipeline\n\n\n\n\n\n\n\n\nDownload or Play Reinventing The US Part 
 1Download or Play Reinventing The US Part 2Download or Play Reinventing The 
 US Part 3Download or Play Tar Sands Pipeline\n\nMusic includes Twisted 
 Sister - We're Not Gonna Take It, The Bergerfolk - Masters of War, 
 Judgement At Nuremberg - The Prosecution Gives Its Opening Statement, Janis 
 Joplin - Mercedes Benz, Capitol Steps - Biden Hide 2012, Frank Zappa - I'm 
 The Slime, John Kennedy, Capitol Steps - Reverend Robertson, Carly Simon - 
 Haven't Got Time For The Pain, The Producers Soundtrack - Springtime for 
 Hitler,  Capitol Steps - Bush Arrested, Leave Jerusha - The Tarsands In The 
 Ground, Jack Black Earth To America, Gil Scott-Heron - Lady Day and John 
 Coltrane, Celtic Woman - Someday, Terry Gangstad - Soap Mouthwash, Johnny 
 Cash & Willie Nelson -  Drive On, Arborea - This Little Light Of Mine, 
 Stephen Longfellow Fiske - Earth Anthem, Phillip Glass - Thirteenth Dalai 
 Lama\n\n\n\n https://www.indybay.org/newsitems/2014/01/23/18749651.php
SUMMARY:Reinventing The U.S.
LOCATION:Stream or download at http://greatspeechesandinterviews.blogspot.com/ 
 \n\nBroadcast at Access Sacramento, Sundays 6-8pm PST at 
 http://www.live365.com/stations/accesssacramento?site=pro
URL:https://www.indybay.org/newsitems/2014/01/23/18749651.php
DTSTART:20140127T020000Z
DTEND:20140127T040000Z
END:VEVENT
END:VCALENDAR
