BEGIN:VCALENDAR
VERSION:2.0
X-WR-CALNAME:www.indybay.org
PRODID:-//indybay/ical// v1.0//EN
BEGIN:VEVENT
UID:Indybay-18749472
SEQUENCE:18858926
CREATED:20140121T001400Z
DESCRIPTION:Are you interested in getting involved with community organizing to protect 
 the beautiful forest of Upper Campus from UCSC development 
 plans?\n\nLet’s get together to share inspiration, make connections and 
 coordinate plans of action. This is the first of an ongoing season of open 
 organizing meetings hosted by Santa Cruz Forest Keepers (formerly known as 
 Forest Walkers). We envision this as the beginning of a broadening and 
 deepening of the campaign to Save Upper Campus.\n\nemail 
 saveuppercampus@gmail.com if you have any questions. Feel free to bring 
 friends! Hope to see you there.\n\n 
 https://www.indybay.org/newsitems/2014/01/20/18749472.php
SUMMARY:Save Upper Campus! Open Meeting hosted by Santa Cruz Forest Keepers
LOCATION:Louden Nelson Center 301 Center Street, Santa Cruz, CA
URL:https://www.indybay.org/newsitems/2014/01/20/18749472.php
DTSTART:20140123T023000Z
DTEND:20140123T050000Z
END:VEVENT
END:VCALENDAR
