BEGIN:VCALENDAR
VERSION:2.0
X-WR-CALNAME:www.indybay.org
PRODID:-//indybay/ical// v1.0//EN
BEGIN:VEVENT
UID:Indybay-18749329
SEQUENCE:18858675
CREATED:20140117T090600Z
DESCRIPTION:J 17, Friday, 12 Noon - 4:00pm - Bay Area Day of Action to Demand an End 
 toCriminalization of Homelessness in San FranciscoNoon - 3:00pm 
 Anti-criminalization Homeless Services (food &organizing) Main Library3:00 
 pm - 4:00 pm - Rally & March around the Civic CenterSF Main LibraryCivic 
 Center Homeless Rights supporters will be gathering to demand an end to 
 continuedcriminalization of homelessness in SF - Demand a Homeless Bill of 
 Rights Service Providers Needed : lmalatorre@cohsf.org Info: \n 
 https://www.indybay.org/newsitems/2014/01/17/18749329.php
SUMMARY:Bay Area Day of Action to Demand an End toCriminalization of Homelessness in San Francisco
LOCATION:12-3pm Main Library\n3-4pm march around city hall
URL:https://www.indybay.org/newsitems/2014/01/17/18749329.php
DTSTART:20140117T200000Z
DTEND:20140118T000000Z
END:VEVENT
END:VCALENDAR
