BEGIN:VCALENDAR
VERSION:2.0
X-WR-CALNAME:www.indybay.org
PRODID:-//indybay/ical// v1.0//EN
BEGIN:VEVENT
UID:Indybay-18749324
SEQUENCE:18858670
CREATED:20140117T052900Z
DESCRIPTION:In celebration of Black History Month, Sisters Quilting Collective (SQC) 
 will host its 3rd annual Quilt Exhibit entitled “Our Stories in Quilts: 
 Quilts That Are Inspired by the Stories in Our Lives,” February 1st 
 through February 15th 2014 at The Brickhouse Art Gallery, 2837 36th Street, 
 Sacramento CA. 95817. The exhibit will highlight African-American Quilters 
 and their Quilts.\n\nThe 2014 program will feature Karen Boutte, author and 
 noted quilter as the keynote speaker. There will be opening and closing 
 receptions, quilt demonstrations and lectures by local and regional 
 quilters, quilting story circles, interactive children’s quilting 
 activities, films, a book and resource display, presentations and fashion 
 show by fabric and wearable artists, a presentation highlighting the 
 historical significance of African American quilters and quilting; raffle 
 drawings and a special raffle drawing for the 2014 SQC Opportunity Quilt. 
 \n\nThe Sister Quilting Collective (SQC) is organized exclusively for 
 charitable and educational purposes, more specifically, to bring awareness 
 of the historical value of African-American quilts, as well as to celebrate 
 and continue the tradition of quilting.\n\n 
 https://www.indybay.org/newsitems/2014/01/16/18749324.php
SUMMARY:A Quilt Celebration “Our Stories in Quilts: Quilts That Are Inspired by the Stories in Our
LOCATION:The Brickhouse Art Gallery, 2837 36th Street, Sacramento CA. 95817
URL:https://www.indybay.org/newsitems/2014/01/16/18749324.php
DTSTART:20140201T213000Z
DTEND:20140202T023000Z
END:VEVENT
END:VCALENDAR
