BEGIN:VCALENDAR
VERSION:2.0
X-WR-CALNAME:www.indybay.org
PRODID:-//indybay/ical// v1.0//EN
BEGIN:VEVENT
UID:Indybay-18749089
SEQUENCE:18858333
CREATED:20140112T215000Z
DESCRIPTION:Folks that attended the Zapatista Escuelitas, members of the Chiapas 
 Support Committee and of YoSoy132 Bay Area will share experiences and 
 perspectives, followed by a discussion of what we can learn from Zapatista 
 autonomy and how it informs our work here.\n 
 https://www.indybay.org/newsitems/2014/01/12/18749089.php
SUMMARY:20 Years of Freedom According to the Zapatistas
LOCATION:Modern Times Bookstore\n2919 24th Street, San Francisco, CA  94110
URL:https://www.indybay.org/newsitems/2014/01/12/18749089.php
DTSTART:20140118T030000Z
DTEND:20140118T050000Z
END:VEVENT
END:VCALENDAR
