BEGIN:VCALENDAR
VERSION:2.0
X-WR-CALNAME:www.indybay.org
PRODID:-//indybay/ical// v1.0//EN
BEGIN:VEVENT
UID:Indybay-18748894
SEQUENCE:18858041
CREATED:20140108T014100Z
DESCRIPTION:Report back from the historic Haifa Conference for a Nuclear Weapons and 
 Weapons of Mass Destruction Free Zone in the Middle East, by Jackie 
 Cabasso, executive director of Western States Legal Foundation and lifetime 
 WILPF member.\n\nThis event is sponsored by WILPF Women's International 
 League for Peace and Freedom, San Jose Branch \n 
 https://www.indybay.org/newsitems/2014/01/07/18748894.php
SUMMARY:Report from Haifa Conference on a Nuclear Free Middle East
LOCATION:San Jose Peace & Justice Center\n48 South 7th Street\nSan Jose, CA 95112
URL:https://www.indybay.org/newsitems/2014/01/07/18748894.php
DTSTART:20140118T030000Z
DTEND:20140118T043000Z
END:VEVENT
END:VCALENDAR
