BEGIN:VCALENDAR
VERSION:2.0
X-WR-CALNAME:www.indybay.org
PRODID:-//indybay/ical// v1.0//EN
BEGIN:VEVENT
UID:Indybay-18747754
SEQUENCE:18856310
CREATED:20131213T235200Z
DESCRIPTION:It’s that time of year again—AK Press's annual holiday sale! As usual, 
 everything in the warehouse will be 25% off as well as hundreds of blowout 
 $1-$5 books. Come have some snacks and beverages and pick up some reading 
 for the holidays. Bring your friends!\n 
 https://www.indybay.org/newsitems/2013/12/13/18747754.php
SUMMARY:AK Press Holiday Sale!
LOCATION:AK Press warehouse\n674-A 23rd St. Oakland 94606\nbetween MLK and San 
 Pablo, 10 minute walk from 19th St. Bart.
URL:https://www.indybay.org/newsitems/2013/12/13/18747754.php
DTSTART:20131219T000000Z
DTEND:20131219T050000Z
END:VEVENT
END:VCALENDAR
