BEGIN:VCALENDAR
VERSION:2.0
X-WR-CALNAME:www.indybay.org
PRODID:-//indybay/ical// v1.0//EN
BEGIN:VEVENT
UID:Indybay-18745567
SEQUENCE:18853135
CREATED:20131029T013300Z
DESCRIPTION:Please join us at a Human Agenda Roundtable for Human Rights:\n\n\nWith 
 100,000 workers in 120 cooperatives, no layoffs since 1956 and higher 
 income than Spanish workers, how can we learn from the largest worker-owned 
 cooperatives in the Western world, located in the Basque region of Spain?   
 \n\nRichard Hobbs: Executive Director, Human Agenda\nThe mission of Human 
 Agenda is to envision a world where the human needs of all can be met, 
 engage the community in forging local institutions that are democratic, 
 cooperative, egalitarian, inclusive, sustainable, and kind, and assume 
 individual responsibility to embody the change we’d like to see.   
 \n\nDeb Goldberg, General Manager, Natural Home Cleaning 
 Cooperative\nNatural Home Cleaning Professionals is a house cleaning 
 cooperative serving Berkeley and surrounding areas with eco-friendly 
 cleaning supplies.   Named the Best House Cleaning in the Bay Area by 
 Sfgate.com, Natural Home Cleaning Professionals is a worker-owned 
 cooperative with several dozen members.  \n\nRichard and Deb recently 
 returned from Mondragon.\n\n 
 https://www.indybay.org/newsitems/2013/10/28/18745567.php
SUMMARY:The Meaning of Mondragon
LOCATION:San Jose Peace & Justice Center, 48 S 7th St.  San Jose, CA 95112
URL:https://www.indybay.org/newsitems/2013/10/28/18745567.php
DTSTART:20131116T010000Z
DTEND:20131116T030000Z
END:VEVENT
END:VCALENDAR
